BEGIN:VCALENDAR
VERSION:2.0
PRODID:-//StreamRadar//Match Calendar//EN
CALSCALE:GREGORIAN
METHOD:PUBLISH
X-WR-CALNAME:Beau Bassin vs Cercle De Joachim
X-WR-TIMEZONE:America/New_York
BEGIN:VEVENT
UID:match-5612988@streamradar.soccer
SUMMARY:Beau Bassin vs Cercle De Joachim
DTSTAMP:20260421T165522Z
DTSTART;TZID=America/New_York:20260415T103000
DTEND;TZID=America/New_York:20260415T123000
DESCRIPTION:Onde ver Beau Bassin vs Cercle De Joachim em Ilhas Maurício - 
 Mauritian League. Transmissão ao vivo e programação de TV.\nhttps://stre
 amradar.soccer/pt/match/5612988/beau-bassin-vs-cercle-de-joachim/
URL;VALUE=URI:https://streamradar.soccer/pt/match/5612988/beau-bassin-vs-ce
 rcle-de-joachim/
STATUS:CONFIRMED
END:VEVENT
END:VCALENDAR
