BEGIN:VCALENDAR
VERSION:2.0
PRODID:-//StreamRadar//Match Calendar//EN
CALSCALE:GREGORIAN
METHOD:PUBLISH
X-WR-CALNAME:Næstved vs Vendsyssel
X-WR-TIMEZONE:America/New_York
BEGIN:VEVENT
UID:match-5612733@streamradar.soccer
SUMMARY:Næstved vs Vendsyssel
DTSTAMP:20260421T062212Z
DTSTART;TZID=America/New_York:20260509T070000
DTEND;TZID=America/New_York:20260509T090000
DESCRIPTION:Onde ver Næstved vs Vendsyssel em Dinamarca - 1. division dina
 marquesa. Transmissão ao vivo e programação de TV.\nhttps://streamradar.
 soccer/pt/match/5612733/nastved-vs-vendsyssel/
URL;VALUE=URI:https://streamradar.soccer/pt/match/5612733/nastved-vs-vendsy
 ssel/
STATUS:CONFIRMED
END:VEVENT
END:VCALENDAR
