BEGIN:VCALENDAR
VERSION:2.0
PRODID:-//StreamRadar//Match Calendar//EN
CALSCALE:GREGORIAN
METHOD:PUBLISH
X-WR-CALNAME:Skive vs Fremad Amager
X-WR-TIMEZONE:America/New_York
BEGIN:VEVENT
UID:match-5612714@streamradar.soccer
SUMMARY:Skive vs Fremad Amager
DTSTAMP:20260421T055616Z
DTSTART;TZID=America/New_York:20260424T130000
DTEND;TZID=America/New_York:20260424T150000
LOCATION:Hancock Arena (Skive)
DESCRIPTION:Onde ver Skive vs Fremad Amager em Dinamarca - 1. division dina
 marquesa. Transmissão ao vivo e programação de TV.\nhttps://streamradar.
 soccer/pt/match/5612714/skive-vs-fremad-amager/
URL;VALUE=URI:https://streamradar.soccer/pt/match/5612714/skive-vs-fremad-a
 mager/
STATUS:CONFIRMED
END:VEVENT
END:VCALENDAR
