BEGIN:VCALENDAR
VERSION:2.0
PRODID:-//StreamRadar//Match Calendar//EN
CALSCALE:GREGORIAN
METHOD:PUBLISH
X-WR-CALNAME:Smail vs Al Khabourah
X-WR-TIMEZONE:America/New_York
BEGIN:VEVENT
UID:match-5612658@streamradar.soccer
SUMMARY:Smail vs Al Khabourah
DTSTAMP:20260421T050653Z
DTSTART;TZID=America/New_York:20260426T122500
DTEND;TZID=America/New_York:20260426T142500
LOCATION:Al-Seeb Stadium (Seeb)
DESCRIPTION:Onde ver Smail vs Al Khabourah em Omani League. Transmissão ao
  vivo e programação de TV.\nhttps://streamradar.soccer/pt/match/5612658/s
 mail-vs-al-khabourah/
URL;VALUE=URI:https://streamradar.soccer/pt/match/5612658/smail-vs-al-khabo
 urah/
STATUS:CONFIRMED
END:VEVENT
END:VCALENDAR
