BEGIN:VCALENDAR
VERSION:2.0
PRODID:-//StreamRadar//Match Calendar//EN
CALSCALE:GREGORIAN
METHOD:PUBLISH
X-WR-CALNAME:Croydon Kings vs FK Beograd
X-WR-TIMEZONE:America/New_York
BEGIN:VEVENT
UID:match-5612278@streamradar.soccer
SUMMARY:Croydon Kings vs FK Beograd
DTSTAMP:20260421T092511Z
DTSTART;TZID=America/New_York:20260509T033000
DTEND;TZID=America/New_York:20260509T053000
LOCATION:Regency Park
DESCRIPTION:Onde ver Croydon Kings vs FK Beograd em Austrália - NPL SA. Tr
 ansmissão ao vivo e programação de TV.\nhttps://streamradar.soccer/pt/ma
 tch/5612278/croydon-kings-vs-fk-beograd/
URL;VALUE=URI:https://streamradar.soccer/pt/match/5612278/croydon-kings-vs-
 fk-beograd/
STATUS:CONFIRMED
END:VEVENT
END:VCALENDAR
