BEGIN:VCALENDAR
VERSION:2.0
PRODID:-//StreamRadar//Match Calendar//EN
CALSCALE:GREGORIAN
METHOD:PUBLISH
X-WR-CALNAME:West Seattle Junction vs Tacoma Stars
X-WR-TIMEZONE:America/New_York
BEGIN:VEVENT
UID:match-5612274@streamradar.soccer
SUMMARY:West Seattle Junction vs Tacoma Stars
DTSTAMP:20260421T080736Z
DTSTART;TZID=America/New_York:20260510T201500
DTEND;TZID=America/New_York:20260510T221500
DESCRIPTION:Onde ver West Seattle Junction vs Tacoma Stars em USL League Tw
 o. Transmissão ao vivo e programação de TV.\nhttps://streamradar.soccer/
 pt/match/5612274/west-seattle-junction-vs-tacoma-stars/
URL;VALUE=URI:https://streamradar.soccer/pt/match/5612274/west-seattle-junc
 tion-vs-tacoma-stars/
STATUS:CONFIRMED
END:VEVENT
END:VCALENDAR
