BEGIN:VCALENDAR
VERSION:2.0
PRODID:-//StreamRadar//Match Calendar//EN
CALSCALE:GREGORIAN
METHOD:PUBLISH
X-WR-CALNAME:Platinum vs MWOS
X-WR-TIMEZONE:America/New_York
BEGIN:VEVENT
UID:match-5612239@streamradar.soccer
SUMMARY:Platinum vs MWOS
DTSTAMP:20260421T091836Z
DTSTART;TZID=America/New_York:20260419T090000
DTEND;TZID=America/New_York:20260419T110000
LOCATION:Mandava Stadium (Zvishavane)
DESCRIPTION:Onde ver Platinum vs MWOS em Zimbábue - Premier Soccer League.
  Transmissão ao vivo e programação de TV.\nhttps://streamradar.soccer/pt
 /match/5612239/platinum-vs-mwos/
URL;VALUE=URI:https://streamradar.soccer/pt/match/5612239/platinum-vs-mwos/
STATUS:CONFIRMED
END:VEVENT
END:VCALENDAR
