BEGIN:VCALENDAR
VERSION:2.0
PRODID:-//StreamRadar//Match Calendar//EN
CALSCALE:GREGORIAN
METHOD:PUBLISH
X-WR-CALNAME:Javor Ivanjica vs Napredak
X-WR-TIMEZONE:America/New_York
BEGIN:VEVENT
UID:match-5612201@streamradar.soccer
SUMMARY:Javor Ivanjica vs Napredak
DTSTAMP:20260421T092314Z
DTSTART;TZID=America/New_York:20260427T120000
DTEND;TZID=America/New_York:20260427T140000
LOCATION:Stadion Kraj Moravice
DESCRIPTION:Onde ver Javor Ivanjica vs Napredak em Sérvia - Super Liga. Tr
 ansmissão ao vivo e programação de TV.\nhttps://streamradar.soccer/pt/ma
 tch/5612201/javor-ivanjica-vs-napredak/
URL;VALUE=URI:https://streamradar.soccer/pt/match/5612201/javor-ivanjica-vs
 -napredak/
STATUS:CONFIRMED
END:VEVENT
END:VCALENDAR
