BEGIN:VCALENDAR
VERSION:2.0
PRODID:-//StreamRadar//Match Calendar//EN
CALSCALE:GREGORIAN
METHOD:PUBLISH
X-WR-CALNAME:Železničar Pančevo vs Radnik Surdulica
X-WR-TIMEZONE:America/New_York
BEGIN:VEVENT
UID:match-5612191@streamradar.soccer
SUMMARY:Železničar Pančevo vs Radnik Surdulica
DTSTAMP:20260421T080836Z
DTSTART;TZID=America/New_York:20260509T130000
DTEND;TZID=America/New_York:20260509T150000
LOCATION:Sportsko-Rekreativni Centar Mladost
DESCRIPTION:Onde ver Železničar Pančevo vs Radnik Surdulica em Sérvia -
  Super Liga. Transmissão ao vivo e programação de TV.\nhttps://streamrad
 ar.soccer/pt/match/5612191/zeleznicar-pancevo-vs-radnik-surdulica/
URL;VALUE=URI:https://streamradar.soccer/pt/match/5612191/zeleznicar-pancev
 o-vs-radnik-surdulica/
STATUS:CONFIRMED
END:VEVENT
END:VCALENDAR
