BEGIN:VCALENDAR
VERSION:2.0
PRODID:-//StreamRadar//Match Calendar//EN
CALSCALE:GREGORIAN
METHOD:PUBLISH
X-WR-CALNAME:Liverpool vs Brighton & Hove Albion
X-WR-TIMEZONE:America/New_York
BEGIN:VEVENT
UID:match-5611511@streamradar.soccer
SUMMARY:Liverpool vs Brighton & Hove Albion
DTSTAMP:20260420T232944Z
DTSTART;TZID=America/New_York:20260510T071500
DTEND;TZID=America/New_York:20260510T091500
LOCATION:St Helens Stadium
DESCRIPTION:Onde ver Liverpool vs Brighton & Hove Albion em Inglaterra - Co
 pa da Inglaterra Feminina. Transmissão ao vivo e programação de TV.\nhtt
 ps://streamradar.soccer/pt/match/5611511/liverpool-vs-brighton-hove-albion/
URL;VALUE=URI:https://streamradar.soccer/pt/match/5611511/liverpool-vs-brig
 hton-hove-albion/
STATUS:CONFIRMED
END:VEVENT
END:VCALENDAR
