BEGIN:VCALENDAR
VERSION:2.0
PRODID:-//StreamRadar//Match Calendar//EN
CALSCALE:GREGORIAN
METHOD:PUBLISH
X-WR-CALNAME:Murang'a SEAL vs Homeboyz
X-WR-TIMEZONE:America/New_York
BEGIN:VEVENT
UID:match-5611457@streamradar.soccer
SUMMARY:Murang'a SEAL vs Homeboyz
DTSTAMP:20260421T041805Z
DTSTART;TZID=America/New_York:20260510T080000
DTEND;TZID=America/New_York:20260510T100000
DESCRIPTION:Onde ver Murang'a SEAL vs Homeboyz em Kenyan Premier League. Tr
 ansmissão ao vivo e programação de TV.\nhttps://streamradar.soccer/pt/ma
 tch/5611457/muranga-seal-vs-homeboyz/
URL;VALUE=URI:https://streamradar.soccer/pt/match/5611457/muranga-seal-vs-h
 omeboyz/
STATUS:CONFIRMED
END:VEVENT
END:VCALENDAR
