BEGIN:VCALENDAR
VERSION:2.0
PRODID:-//StreamRadar//Match Calendar//EN
CALSCALE:GREGORIAN
METHOD:PUBLISH
X-WR-CALNAME:APS Bomet vs KCB
X-WR-TIMEZONE:America/New_York
BEGIN:VEVENT
UID:match-5611439@streamradar.soccer
SUMMARY:APS Bomet vs KCB
DTSTAMP:20260421T035710Z
DTSTART;TZID=America/New_York:20260503T080000
DTEND;TZID=America/New_York:20260503T100000
DESCRIPTION:Onde ver APS Bomet vs KCB em Kenyan Premier League. Transmissã
 o ao vivo e programação de TV.\nhttps://streamradar.soccer/pt/match/56114
 39/aps-bomet-vs-kcb/
URL;VALUE=URI:https://streamradar.soccer/pt/match/5611439/aps-bomet-vs-kcb/
STATUS:CONFIRMED
END:VEVENT
END:VCALENDAR
