BEGIN:VCALENDAR
VERSION:2.0
PRODID:-//StreamRadar//Match Calendar//EN
CALSCALE:GREGORIAN
METHOD:PUBLISH
X-WR-CALNAME:Mara Sugar vs Shabana
X-WR-TIMEZONE:America/New_York
BEGIN:VEVENT
UID:match-5611437@streamradar.soccer
SUMMARY:Mara Sugar vs Shabana
DTSTAMP:20260421T041414Z
DTSTART;TZID=America/New_York:20260502T070000
DTEND;TZID=America/New_York:20260502T090000
DESCRIPTION:Onde ver Mara Sugar vs Shabana em Kenyan Premier League. Transm
 issão ao vivo e programação de TV.\nhttps://streamradar.soccer/pt/match/
 5611437/mara-sugar-vs-shabana/
URL;VALUE=URI:https://streamradar.soccer/pt/match/5611437/mara-sugar-vs-sha
 bana/
STATUS:CONFIRMED
END:VEVENT
END:VCALENDAR
