BEGIN:VCALENDAR
VERSION:2.0
PRODID:-//StreamRadar//Match Calendar//EN
CALSCALE:GREGORIAN
METHOD:PUBLISH
X-WR-CALNAME:Olympiakos Piraeus vs PAOK
X-WR-TIMEZONE:America/New_York
BEGIN:VEVENT
UID:match-5611406@streamradar.soccer
SUMMARY:Olympiakos Piraeus vs PAOK
DTSTAMP:20260421T093637Z
DTSTART;TZID=America/New_York:20260510T123000
DTEND;TZID=America/New_York:20260510T143000
LOCATION:Georgios Karaiskakis Stadium
DESCRIPTION:Onde ver Olympiakos Piraeus vs PAOK em Grécia - Superliga Greg
 a. Transmissão ao vivo e programação de TV.\nhttps://streamradar.soccer/
 pt/match/5611406/olympiakos-piraeus-vs-paok/
URL;VALUE=URI:https://streamradar.soccer/pt/match/5611406/olympiakos-piraeu
 s-vs-paok/
STATUS:CONFIRMED
END:VEVENT
END:VCALENDAR
