BEGIN:VCALENDAR
VERSION:2.0
PRODID:-//StreamRadar//Match Calendar//EN
CALSCALE:GREGORIAN
METHOD:PUBLISH
X-WR-CALNAME:Gilortul vs Viitorul Dăești
X-WR-TIMEZONE:America/New_York
BEGIN:VEVENT
UID:match-5610836@streamradar.soccer
SUMMARY:Gilortul vs Viitorul Dăești
DTSTAMP:20260421T074045Z
DTSTART;TZID=America/New_York:20260509T110000
DTEND;TZID=America/New_York:20260509T130000
DESCRIPTION:Onde ver Gilortul vs Viitorul Dăești em Romênia - Liga III. 
 Transmissão ao vivo e programação de TV.\nhttps://streamradar.soccer/pt/
 match/5610836/gilortul-vs-viitorul-d-e-ti/
URL;VALUE=URI:https://streamradar.soccer/pt/match/5610836/gilortul-vs-viito
 rul-d-e-ti/
STATUS:CONFIRMED
END:VEVENT
END:VCALENDAR
