BEGIN:VCALENDAR
VERSION:2.0
PRODID:-//StreamRadar//Match Calendar//EN
CALSCALE:GREGORIAN
METHOD:PUBLISH
X-WR-CALNAME:Porto Velho vs Independência
X-WR-TIMEZONE:America/New_York
BEGIN:VEVENT
UID:match-5610733@streamradar.soccer
SUMMARY:Porto Velho vs Independência
DTSTAMP:20260421T092407Z
DTSTART;TZID=America/New_York:20260509T160000
DTEND;TZID=America/New_York:20260509T180000
DESCRIPTION:Onde ver Porto Velho vs Independência em Brasil - Série D. Tr
 ansmissão ao vivo e programação de TV.\nhttps://streamradar.soccer/pt/ma
 tch/5610733/porto-velho-vs-independencia/
URL;VALUE=URI:https://streamradar.soccer/pt/match/5610733/porto-velho-vs-in
 dependencia/
STATUS:CONFIRMED
END:VEVENT
END:VCALENDAR
