BEGIN:VCALENDAR
VERSION:2.0
PRODID:-//StreamRadar//Match Calendar//EN
CALSCALE:GREGORIAN
METHOD:PUBLISH
X-WR-CALNAME:Marcílio Dias vs Brasil de Pelotas
X-WR-TIMEZONE:America/New_York
BEGIN:VEVENT
UID:match-5610727@streamradar.soccer
SUMMARY:Marcílio Dias vs Brasil de Pelotas
DTSTAMP:20260421T092526Z
DTSTART;TZID=America/New_York:20260509T160000
DTEND;TZID=America/New_York:20260509T180000
DESCRIPTION:Onde ver Marcílio Dias vs Brasil De Pelotas em Brasil - Série
  D. Transmissão ao vivo e programação de TV.\nhttps://streamradar.soccer
 /pt/match/5610727/marcilio-dias-vs-brasil-de-pelotas/
URL;VALUE=URI:https://streamradar.soccer/pt/match/5610727/marcilio-dias-vs-
 brasil-de-pelotas/
STATUS:CONFIRMED
END:VEVENT
END:VCALENDAR
