BEGIN:VCALENDAR
VERSION:2.0
PRODID:-//StreamRadar//Match Calendar//EN
CALSCALE:GREGORIAN
METHOD:PUBLISH
X-WR-CALNAME:Cascavel vs Joinville
X-WR-TIMEZONE:America/New_York
BEGIN:VEVENT
UID:match-5610704@streamradar.soccer
SUMMARY:Cascavel vs Joinville
DTSTAMP:20260421T062203Z
DTSTART;TZID=America/New_York:20260509T160000
DTEND;TZID=America/New_York:20260509T180000
DESCRIPTION:Onde ver Cascavel vs Joinville em Brasil - SÃ©rie D. TransmissÃ
 £o ao vivo e programaÃ§Ã£o de TV.\nhttps://streamradar.soccer/pt/match/5610
 704/cascavel-vs-joinville/
URL;VALUE=URI:https://streamradar.soccer/pt/match/5610704/cascavel-vs-joinv
 ille/
STATUS:CONFIRMED
END:VEVENT
END:VCALENDAR
