BEGIN:VCALENDAR
VERSION:2.0
PRODID:-//StreamRadar//Match Calendar//EN
CALSCALE:GREGORIAN
METHOD:PUBLISH
X-WR-CALNAME:Sunderland U21 vs Blackburn U21
X-WR-TIMEZONE:America/New_York
BEGIN:VEVENT
UID:match-5610067@streamradar.soccer
SUMMARY:Sunderland U21 vs Blackburn U21
DTSTAMP:20260421T135927Z
DTSTART;TZID=America/New_York:20260415T140000
DTEND;TZID=America/New_York:20260415T160000
LOCATION:Eppleton Colliery Welfare Ground
DESCRIPTION:Onde ver Sunderland Sub-21 vs Blackburn Sub-21 em Inglaterra - 
 Premier League Cup. Transmissão ao vivo e programação de TV.\nhttps://st
 reamradar.soccer/pt/match/5610067/sunderland-u21-vs-blackburn-u21/
URL;VALUE=URI:https://streamradar.soccer/pt/match/5610067/sunderland-u21-vs
 -blackburn-u21/
STATUS:CONFIRMED
END:VEVENT
END:VCALENDAR
