BEGIN:VCALENDAR
VERSION:2.0
PRODID:-//StreamRadar//Match Calendar//EN
CALSCALE:GREGORIAN
METHOD:PUBLISH
X-WR-CALNAME:Namungo vs Mashujaa
X-WR-TIMEZONE:America/New_York
BEGIN:VEVENT
UID:match-5610044@streamradar.soccer
SUMMARY:Namungo vs Mashujaa
DTSTAMP:20260421T104152Z
DTSTART;TZID=America/New_York:20260508T113000
DTEND;TZID=America/New_York:20260508T133000
LOCATION:Majaliwa Stadium
DESCRIPTION:Onde ver Namungo vs Mashujaa em Tanzania Premier League. Transm
 issão ao vivo e programação de TV.\nhttps://streamradar.soccer/pt/match/
 5610044/namungo-vs-mashujaa/
URL;VALUE=URI:https://streamradar.soccer/pt/match/5610044/namungo-vs-mashuj
 aa/
STATUS:CONFIRMED
END:VEVENT
END:VCALENDAR
