BEGIN:VCALENDAR
VERSION:2.0
PRODID:-//StreamRadar//Match Calendar//EN
CALSCALE:GREGORIAN
METHOD:PUBLISH
X-WR-CALNAME:CA Batna vs USM Alger
X-WR-TIMEZONE:America/New_York
BEGIN:VEVENT
UID:match-5609546@streamradar.soccer
SUMMARY:CA Batna vs USM Alger
DTSTAMP:20260421T054631Z
DTSTART;TZID=America/New_York:20260424T130000
DTEND;TZID=America/New_York:20260424T150000
LOCATION:Stade Seffouhi
DESCRIPTION:Onde ver CA Batna vs USM Alger em Copa da Argélia. Transmissã
 o ao vivo e programação de TV.\nhttps://streamradar.soccer/pt/match/56095
 46/ca-batna-vs-usm-alger/
URL;VALUE=URI:https://streamradar.soccer/pt/match/5609546/ca-batna-vs-usm-a
 lger/
STATUS:CONFIRMED
END:VEVENT
END:VCALENDAR
