BEGIN:VCALENDAR
VERSION:2.0
PRODID:-//StreamRadar//Match Calendar//EN
CALSCALE:GREGORIAN
METHOD:PUBLISH
X-WR-CALNAME:Union Klost. vs Eintracht Mahlsdorf
X-WR-TIMEZONE:America/New_York
BEGIN:VEVENT
UID:match-5608356@streamradar.soccer
SUMMARY:Union Klost. vs Eintracht Mahlsdorf
DTSTAMP:20260421T165351Z
DTSTART;TZID=America/New_York:20260415T133000
DTEND;TZID=America/New_York:20260415T153000
LOCATION:Sportplatz an der Mühlenstraße (Wandlitz)
DESCRIPTION:Onde ver Union Klost. vs Eintracht Mahlsdorf em Alemanha - Ober
 liga. Transmissão ao vivo e programação de TV.\nhttps://streamradar.socc
 er/pt/match/5608356/union-klost-vs-eintracht-mahlsdorf/
URL;VALUE=URI:https://streamradar.soccer/pt/match/5608356/union-klost-vs-ei
 ntracht-mahlsdorf/
STATUS:CONFIRMED
END:VEVENT
END:VCALENDAR
