BEGIN:VCALENDAR
VERSION:2.0
PRODID:-//StreamRadar//Match Calendar//EN
CALSCALE:GREGORIAN
METHOD:PUBLISH
X-WR-CALNAME:Floresta vs MaranhÃ£o
X-WR-TIMEZONE:America/New_York
BEGIN:VEVENT
UID:match-5607990@streamradar.soccer
SUMMARY:Floresta vs MaranhÃ£o
DTSTAMP:20260421T114509Z
DTSTART;TZID=America/New_York:20260504T190000
DTEND;TZID=America/New_York:20260504T210000
DESCRIPTION:Onde ver Floresta vs MaranhÃ£o em Brasil - SÃ©rie C. TransmissÃ
 £o ao vivo e programaÃ§Ã£o de TV.\nhttps://streamradar.soccer/pt/match/5607
 990/floresta-vs-maranhao/
URL;VALUE=URI:https://streamradar.soccer/pt/match/5607990/floresta-vs-maran
 hao/
STATUS:CONFIRMED
END:VEVENT
END:VCALENDAR
