BEGIN:VCALENDAR
VERSION:2.0
PRODID:-//StreamRadar//Match Calendar//EN
CALSCALE:GREGORIAN
METHOD:PUBLISH
X-WR-CALNAME:Bodø / Glimt vs Aalesund
X-WR-TIMEZONE:America/New_York
BEGIN:VEVENT
UID:match-5604389@streamradar.soccer
SUMMARY:Bodø / Glimt vs Aalesund
DTSTAMP:20260421T072721Z
DTSTART;TZID=America/New_York:20260912T090000
DTEND;TZID=America/New_York:20260912T110000
LOCATION:Aspmyra Stadion
DESCRIPTION:Onde ver Bodø / Glimt vs Aalesund em Noruega - Toppserien. Tra
 nsmissão ao vivo e programação de TV.\nhttps://streamradar.soccer/pt/mat
 ch/5604389/bodo-glimt-vs-aalesund/
URL;VALUE=URI:https://streamradar.soccer/pt/match/5604389/bodo-glimt-vs-aal
 esund/
STATUS:CONFIRMED
END:VEVENT
END:VCALENDAR
