BEGIN:VCALENDAR
VERSION:2.0
PRODID:-//StreamRadar//Match Calendar//EN
CALSCALE:GREGORIAN
METHOD:PUBLISH
X-WR-CALNAME:Gomel vs Isloch
X-WR-TIMEZONE:America/New_York
BEGIN:VEVENT
UID:match-5593208@streamradar.soccer
SUMMARY:Gomel vs Isloch
DTSTAMP:20260423T170730Z
DTSTART;TZID=America/New_York:20260912T110000
DTEND;TZID=America/New_York:20260912T130000
LOCATION:Centralnyj Stadion
DESCRIPTION:Onde ver Gomel vs Isloch em Bielorrússia - Vysshaya Liga. Tran
 smissão ao vivo e programação de TV.\nhttps://streamradar.soccer/pt/matc
 h/5593208/gomel-vs-isloch/
URL;VALUE=URI:https://streamradar.soccer/pt/match/5593208/gomel-vs-isloch/
STATUS:CONFIRMED
END:VEVENT
END:VCALENDAR
