BEGIN:VCALENDAR
VERSION:2.0
PRODID:-//StreamRadar//Match Calendar//EN
CALSCALE:GREGORIAN
METHOD:PUBLISH
X-WR-CALNAME:Jeunesse Sportive Soualem vs US Boujaad
X-WR-TIMEZONE:America/New_York
BEGIN:VEVENT
UID:match-5580615@streamradar.soccer
SUMMARY:Jeunesse Sportive Soualem vs US Boujaad
DTSTAMP:20260422T223643Z
DTSTART;TZID=America/New_York:20260314T180000
DTEND;TZID=America/New_York:20260314T200000
LOCATION:Stade municipal de Berrechid
DESCRIPTION:Onde ver Jeunesse Sportive Soualem vs US Boujaad em Marrocos - 
 Botola Pro 2. Transmissão ao vivo e programação de TV.\nhttps://streamra
 dar.soccer/pt/match/5580615/jeunesse-sportive-soualem-vs-us-boujaad/
URL;VALUE=URI:https://streamradar.soccer/pt/match/5580615/jeunesse-sportive
 -soualem-vs-us-boujaad/
STATUS:CONFIRMED
END:VEVENT
END:VCALENDAR
