BEGIN:VCALENDAR
VERSION:2.0
PRODID:-//StreamRadar//Match Calendar//EN
CALSCALE:GREGORIAN
METHOD:PUBLISH
X-WR-CALNAME:Querétaro Femenil vs América Femenil
X-WR-TIMEZONE:America/New_York
BEGIN:VEVENT
UID:match-5580530@streamradar.soccer
SUMMARY:Querétaro Femenil vs América Femenil
DTSTAMP:20260422T041311Z
DTSTART;TZID=America/New_York:20260404T230600
DTEND;TZID=America/New_York:20260405T010600
LOCATION:Estadio La Corregidora
DESCRIPTION:Onde ver Querétaro Femenil vs América Femenil em Liga MX Feme
 nil. Transmissão ao vivo e programação de TV.\nhttps://streamradar.socce
 r/pt/match/5580530/queretaro-femenil-vs-america-femenil/
URL;VALUE=URI:https://streamradar.soccer/pt/match/5580530/queretaro-femenil
 -vs-america-femenil/
STATUS:CONFIRMED
END:VEVENT
END:VCALENDAR
