BEGIN:VCALENDAR
VERSION:2.0
PRODID:-//StreamRadar//Match Calendar//EN
CALSCALE:GREGORIAN
METHOD:PUBLISH
X-WR-CALNAME:Deportivo Rincón vs Argentino Monte Maíz
X-WR-TIMEZONE:America/New_York
BEGIN:VEVENT
UID:match-5580495@streamradar.soccer
SUMMARY:Deportivo Rincón vs Argentino Monte Maíz
DTSTAMP:20260422T023335Z
DTSTART;TZID=America/New_York:20260405T150000
DTEND;TZID=America/New_York:20260405T170000
LOCATION:Estadio Gremio de Los Petroleros
DESCRIPTION:Onde ver Deportivo Rincón vs Argentino Monte Maíz em Torneo F
 ederal A. Transmissão ao vivo e programação de TV.\nhttps://streamradar.
 soccer/pt/match/5580495/deportivo-rincon-vs-argentino-monte-maiz/
URL;VALUE=URI:https://streamradar.soccer/pt/match/5580495/deportivo-rincon-
 vs-argentino-monte-maiz/
STATUS:CONFIRMED
END:VEVENT
END:VCALENDAR
