BEGIN:VCALENDAR
VERSION:2.0
PRODID:-//StreamRadar//Match Calendar//EN
CALSCALE:GREGORIAN
METHOD:PUBLISH
X-WR-CALNAME:Optik Rathenow vs Sparta Lichtenberg
X-WR-TIMEZONE:America/New_York
BEGIN:VEVENT
UID:match-5570639@streamradar.soccer
SUMMARY:Optik Rathenow vs Sparta Lichtenberg
DTSTAMP:20260422T200138Z
DTSTART;TZID=America/New_York:20260318T140000
DTEND;TZID=America/New_York:20260318T160000
LOCATION:Stadion Vogelgesang (Rathenow)
DESCRIPTION:Onde ver Optik Rathenow vs Sparta Lichtenberg em Alemanha - Obe
 rliga. Transmissão ao vivo e programação de TV.\nhttps://streamradar.soc
 cer/pt/match/5570639/optik-rathenow-vs-sparta-lichtenberg/
URL;VALUE=URI:https://streamradar.soccer/pt/match/5570639/optik-rathenow-vs
 -sparta-lichtenberg/
STATUS:CONFIRMED
END:VEVENT
END:VCALENDAR
