BEGIN:VCALENDAR
VERSION:2.0
PRODID:-//StreamRadar//Match Calendar//EN
CALSCALE:GREGORIAN
METHOD:PUBLISH
X-WR-CALNAME:America De Cali W vs Llaneros W
X-WR-TIMEZONE:America/New_York
BEGIN:VEVENT
UID:match-5567950@streamradar.soccer
SUMMARY:America De Cali W vs Llaneros W
DTSTAMP:20260421T172610Z
DTSTART;TZID=America/New_York:20260802T160000
DTEND;TZID=America/New_York:20260802T180000
DESCRIPTION:Onde ver America De Cali W vs Llaneros W em Colômbia - Liga Fe
 minina. Transmissão ao vivo e programação de TV.\nhttps://streamradar.so
 ccer/pt/match/5567950/america-de-cali-w-vs-llaneros-w/
URL;VALUE=URI:https://streamradar.soccer/pt/match/5567950/america-de-cali-w
 -vs-llaneros-w/
STATUS:CONFIRMED
END:VEVENT
END:VCALENDAR
