BEGIN:VCALENDAR
VERSION:2.0
PRODID:-//StreamRadar//Match Calendar//EN
CALSCALE:GREGORIAN
METHOD:PUBLISH
X-WR-CALNAME:Tallinna Kalev II vs JK Tabasalu
X-WR-TIMEZONE:America/New_York
BEGIN:VEVENT
UID:match-5567588@streamradar.soccer
SUMMARY:Tallinna Kalev II vs JK Tabasalu
DTSTAMP:20260422T172631Z
DTSTART;TZID=America/New_York:20260911T120000
DTEND;TZID=America/New_York:20260911T140000
DESCRIPTION:Onde ver Tallinna Kalev II vs JK Tabasalu em Estônia - Esiliig
 a B. Transmissão ao vivo e programação de TV.\nhttps://streamradar.socce
 r/pt/match/5567588/tallinna-kalev-ii-vs-jk-tabasalu/
URL;VALUE=URI:https://streamradar.soccer/pt/match/5567588/tallinna-kalev-ii
 -vs-jk-tabasalu/
STATUS:CONFIRMED
END:VEVENT
END:VCALENDAR
