BEGIN:VCALENDAR
VERSION:2.0
PRODID:-//StreamRadar//Match Calendar//EN
CALSCALE:GREGORIAN
METHOD:PUBLISH
X-WR-CALNAME:FC Tallinn vs FCI Levadia II
X-WR-TIMEZONE:America/New_York
BEGIN:VEVENT
UID:match-5567422@streamradar.soccer
SUMMARY:FC Tallinn vs FCI Levadia II
DTSTAMP:20260422T172632Z
DTSTART;TZID=America/New_York:20260913T053000
DTEND;TZID=America/New_York:20260913T073000
DESCRIPTION:Onde ver FC Tallinn vs FCI Levadia II em Estônia - Esiliiga A.
  Transmissão ao vivo e programação de TV.\nhttps://streamradar.soccer/pt
 /match/5567422/fc-tallinn-vs-fci-levadia-ii/
URL;VALUE=URI:https://streamradar.soccer/pt/match/5567422/fc-tallinn-vs-fci
 -levadia-ii/
STATUS:CONFIRMED
END:VEVENT
END:VCALENDAR
