BEGIN:VCALENDAR
VERSION:2.0
PRODID:-//StreamRadar//Match Calendar//EN
CALSCALE:GREGORIAN
METHOD:PUBLISH
X-WR-CALNAME:Austin II vs Colorado Rapids II
X-WR-TIMEZONE:America/New_York
BEGIN:VEVENT
UID:match-5565971@streamradar.soccer
SUMMARY:Austin II vs Colorado Rapids II
DTSTAMP:20260422T091124Z
DTSTART;TZID=America/New_York:20260913T203000
DTEND;TZID=America/New_York:20260913T223000
LOCATION:Parmer Filed
DESCRIPTION:Onde ver Austin II vs Colorado Rapids II em MLS Next Pro. Trans
 missão ao vivo e programação de TV.\nhttps://streamradar.soccer/pt/match
 /5565971/austin-ii-vs-colorado-rapids-ii/
URL;VALUE=URI:https://streamradar.soccer/pt/match/5565971/austin-ii-vs-colo
 rado-rapids-ii/
STATUS:CONFIRMED
END:VEVENT
END:VCALENDAR
