BEGIN:VCALENDAR
VERSION:2.0
PRODID:-//StreamRadar//Match Calendar//EN
CALSCALE:GREGORIAN
METHOD:PUBLISH
X-WR-CALNAME:Crown Legacy vs Carolina Core
X-WR-TIMEZONE:America/New_York
BEGIN:VEVENT
UID:match-5565960@streamradar.soccer
SUMMARY:Crown Legacy vs Carolina Core
DTSTAMP:20260421T170530Z
DTSTART;TZID=America/New_York:20260912T190000
DTEND;TZID=America/New_York:20260912T210000
LOCATION:Sportsplex at Matthews
DESCRIPTION:Onde ver Crown Legacy vs Carolina Core em MLS Next Pro. Transmi
 ssão ao vivo e programação de TV.\nhttps://streamradar.soccer/pt/match/5
 565960/crown-legacy-vs-carolina-core/
URL;VALUE=URI:https://streamradar.soccer/pt/match/5565960/crown-legacy-vs-c
 arolina-core/
STATUS:CONFIRMED
END:VEVENT
END:VCALENDAR
