BEGIN:VCALENDAR
VERSION:2.0
PRODID:-//StreamRadar//Match Calendar//EN
CALSCALE:GREGORIAN
METHOD:PUBLISH
X-WR-CALNAME:Dangjin Citizen vs Busan Transportation
X-WR-TIMEZONE:America/New_York
BEGIN:VEVENT
UID:match-5565503@streamradar.soccer
SUMMARY:Dangjin Citizen vs Busan Transportation
DTSTAMP:20260422T024640Z
DTSTART;TZID=America/New_York:20260913T050000
DTEND;TZID=America/New_York:20260913T070000
DESCRIPTION:Onde ver Dangjin Citizen vs Busan Transportation em Coreia do S
 ul - K3 League. Transmissão ao vivo e programação de TV.\nhttps://stream
 radar.soccer/pt/match/5565503/dangjin-citizen-vs-busan-transportation/
URL;VALUE=URI:https://streamradar.soccer/pt/match/5565503/dangjin-citizen-v
 s-busan-transportation/
STATUS:CONFIRMED
END:VEVENT
END:VCALENDAR
