BEGIN:VCALENDAR
VERSION:2.0
PRODID:-//StreamRadar//Match Calendar//EN
CALSCALE:GREGORIAN
METHOD:PUBLISH
X-WR-CALNAME:Gimhae City vs Jeonnam Dragons
X-WR-TIMEZONE:America/New_York
BEGIN:VEVENT
UID:match-5563226@streamradar.soccer
SUMMARY:Gimhae City vs Jeonnam Dragons
DTSTAMP:20260422T043354Z
DTSTART;TZID=America/New_York:20260905T060000
DTEND;TZID=America/New_York:20260905T080000
LOCATION:Gimhae Sports Complex
DESCRIPTION:Onde ver Gimhae City vs Jeonnam Dragons em Coreia do Sul - K Le
 ague 2. Transmissão ao vivo e programação de TV.\nhttps://streamradar.so
 ccer/pt/match/5563226/gimhae-city-vs-jeonnam-dragons/
URL;VALUE=URI:https://streamradar.soccer/pt/match/5563226/gimhae-city-vs-je
 onnam-dragons/
STATUS:CONFIRMED
END:VEVENT
END:VCALENDAR
