BEGIN:VCALENDAR
VERSION:2.0
PRODID:-//StreamRadar//Match Calendar//EN
CALSCALE:GREGORIAN
METHOD:PUBLISH
X-WR-CALNAME:Paju Citizen vs Daegu
X-WR-TIMEZONE:America/New_York
BEGIN:VEVENT
UID:match-5563223@streamradar.soccer
SUMMARY:Paju Citizen vs Daegu
DTSTAMP:20260422T043304Z
DTSTART;TZID=America/New_York:20260904T063000
DTEND;TZID=America/New_York:20260904T083000
DESCRIPTION:Onde ver Paju Citizen vs Daegu em Coreia do Sul - K League 2. T
 ransmissão ao vivo e programação de TV.\nhttps://streamradar.soccer/pt/m
 atch/5563223/paju-citizen-vs-daegu/
URL;VALUE=URI:https://streamradar.soccer/pt/match/5563223/paju-citizen-vs-d
 aegu/
STATUS:CONFIRMED
END:VEVENT
END:VCALENDAR
