BEGIN:VCALENDAR
VERSION:2.0
PRODID:-//StreamRadar//Match Calendar//EN
CALSCALE:GREGORIAN
METHOD:PUBLISH
X-WR-CALNAME:Havadar vs Navad Urmia
X-WR-TIMEZONE:America/New_York
BEGIN:VEVENT
UID:match-5562795@streamradar.soccer
SUMMARY:Havadar vs Navad Urmia
DTSTAMP:20260422T110042Z
DTSTART;TZID=America/New_York:20260329T080000
DTEND;TZID=America/New_York:20260329T100000
LOCATION:Shahid Dastgerdi Stadium
DESCRIPTION:Onde ver Havadar vs Navad Urmia em Irã - Azadegan League. Tran
 smissão ao vivo e programação de TV.\nhttps://streamradar.soccer/pt/matc
 h/5562795/havadar-vs-navad-urmia/
URL;VALUE=URI:https://streamradar.soccer/pt/match/5562795/havadar-vs-navad-
 urmia/
STATUS:CONFIRMED
END:VEVENT
END:VCALENDAR
