BEGIN:VCALENDAR
VERSION:2.0
PRODID:-//StreamRadar//Match Calendar//EN
CALSCALE:GREGORIAN
METHOD:PUBLISH
X-WR-CALNAME:Compostela vs Celta de Vigo III
X-WR-TIMEZONE:America/New_York
BEGIN:VEVENT
UID:match-5562434@streamradar.soccer
SUMMARY:Compostela vs Celta de Vigo III
DTSTAMP:20260422T045627Z
DTSTART;TZID=America/New_York:20260402T060000
DTEND;TZID=America/New_York:20260402T080000
LOCATION:Estadio Multiusos de San Lázaro (Santiago de Compostela)
DESCRIPTION:Onde ver Compostela vs Celta De Vigo III em Espanha - Terceira 
 Federação. Transmissão ao vivo e programação de TV.\nhttps://streamrad
 ar.soccer/pt/match/5562434/compostela-vs-celta-de-vigo-iii/
URL;VALUE=URI:https://streamradar.soccer/pt/match/5562434/compostela-vs-cel
 ta-de-vigo-iii/
STATUS:CONFIRMED
END:VEVENT
END:VCALENDAR
