BEGIN:VCALENDAR
VERSION:2.0
PRODID:-//StreamRadar//Match Calendar//EN
CALSCALE:GREGORIAN
METHOD:PUBLISH
X-WR-CALNAME:Qizilqum vs Buxoro
X-WR-TIMEZONE:America/New_York
BEGIN:VEVENT
UID:match-5561466@streamradar.soccer
SUMMARY:Qizilqum vs Buxoro
DTSTAMP:20260421T211046Z
DTSTART;TZID=America/New_York:20260903T110000
DTEND;TZID=America/New_York:20260903T130000
LOCATION:Yoshlar Sport Majmuasi
DESCRIPTION:Onde ver Qizilqum vs Buxoro em Uzbekistan Super League. Transmi
 ssão ao vivo e programação de TV.\nhttps://streamradar.soccer/pt/match/5
 561466/qizilqum-vs-buxoro/
URL;VALUE=URI:https://streamradar.soccer/pt/match/5561466/qizilqum-vs-buxor
 o/
STATUS:CONFIRMED
END:VEVENT
END:VCALENDAR
