BEGIN:VCALENDAR
VERSION:2.0
PRODID:-//StreamRadar//Match Calendar//EN
CALSCALE:GREGORIAN
METHOD:PUBLISH
X-WR-CALNAME:Villa San Carlos vs Talleres Remedios
X-WR-TIMEZONE:America/New_York
BEGIN:VEVENT
UID:match-5560766@streamradar.soccer
SUMMARY:Villa San Carlos vs Talleres Remedios
DTSTAMP:20260422T054737Z
DTSTART;TZID=America/New_York:20260919T160000
DTEND;TZID=America/New_York:20260919T180000
LOCATION:Genacio Salice Stadium
DESCRIPTION:Onde ver Villa San Carlos vs Talleres Remedios em Argentina - P
 rimera B Metropolitana. Transmissão ao vivo e programação de TV.\nhttps:
 //streamradar.soccer/pt/match/5560766/villa-san-carlos-vs-talleres-remedios
 /
URL;VALUE=URI:https://streamradar.soccer/pt/match/5560766/villa-san-carlos-
 vs-talleres-remedios/
STATUS:CONFIRMED
END:VEVENT
END:VCALENDAR
