BEGIN:VCALENDAR
VERSION:2.0
PRODID:-//StreamRadar//Match Calendar//EN
CALSCALE:GREGORIAN
METHOD:PUBLISH
X-WR-CALNAME:Excursionistas vs Villa Dálmine
X-WR-TIMEZONE:America/New_York
BEGIN:VEVENT
UID:match-5560751@streamradar.soccer
SUMMARY:Excursionistas vs Villa Dálmine
DTSTAMP:20260421T092912Z
DTSTART;TZID=America/New_York:20260912T160000
DTEND;TZID=America/New_York:20260912T180000
LOCATION:Excursionistas Stadium
DESCRIPTION:Onde ver Excursionistas vs Villa Dálmine em Argentina - Primer
 a B Metropolitana. Transmissão ao vivo e programação de TV.\nhttps://str
 eamradar.soccer/pt/match/5560751/excursionistas-vs-villa-dalmine/
URL;VALUE=URI:https://streamradar.soccer/pt/match/5560751/excursionistas-vs
 -villa-dalmine/
STATUS:CONFIRMED
END:VEVENT
END:VCALENDAR
