BEGIN:VCALENDAR
VERSION:2.0
PRODID:-//StreamRadar//Match Calendar//EN
CALSCALE:GREGORIAN
METHOD:PUBLISH
X-WR-CALNAME:Gimnasia y Tiro vs Atlético Rafaela
X-WR-TIMEZONE:America/New_York
BEGIN:VEVENT
UID:match-5560120@streamradar.soccer
SUMMARY:Gimnasia y Tiro vs Atlético Rafaela
DTSTAMP:20260422T065714Z
DTSTART;TZID=America/New_York:20260919T160000
DTEND;TZID=America/New_York:20260919T180000
LOCATION:Estadio El Gigante del Norte
DESCRIPTION:Onde ver Gimnasia Y Tiro vs Atlético Rafaela em Argentina - Pr
 imera Nacional. Transmissão ao vivo e programação de TV.\nhttps://stream
 radar.soccer/pt/match/5560120/gimnasia-y-tiro-vs-atletico-rafaela/
URL;VALUE=URI:https://streamradar.soccer/pt/match/5560120/gimnasia-y-tiro-v
 s-atletico-rafaela/
STATUS:CONFIRMED
END:VEVENT
END:VCALENDAR
