BEGIN:VCALENDAR
VERSION:2.0
PRODID:-//StreamRadar//Match Calendar//EN
CALSCALE:GREGORIAN
METHOD:PUBLISH
X-WR-CALNAME:Tristán Suárez vs Atlanta
X-WR-TIMEZONE:America/New_York
BEGIN:VEVENT
UID:match-5560107@streamradar.soccer
SUMMARY:Tristán Suárez vs Atlanta
DTSTAMP:20260421T135909Z
DTSTART;TZID=America/New_York:20260912T160000
DTEND;TZID=America/New_York:20260912T180000
LOCATION:Estadio 20 de Octubre
DESCRIPTION:Onde ver Tristán Suárez vs Atlanta em Argentina - Primera Nac
 ional. Transmissão ao vivo e programação de TV.\nhttps://streamradar.soc
 cer/pt/match/5560107/tristan-suarez-vs-atlanta/
URL;VALUE=URI:https://streamradar.soccer/pt/match/5560107/tristan-suarez-vs
 -atlanta/
STATUS:CONFIRMED
END:VEVENT
END:VCALENDAR
