BEGIN:VCALENDAR
VERSION:2.0
PRODID:-//StreamRadar//Match Calendar//EN
CALSCALE:GREGORIAN
METHOD:PUBLISH
X-WR-CALNAME:Londrina vs Ponte Preta
X-WR-TIMEZONE:America/New_York
BEGIN:VEVENT
UID:match-5559559@streamradar.soccer
SUMMARY:Londrina vs Ponte Preta
DTSTAMP:20260421T142124Z
DTSTART;TZID=America/New_York:20260912T150000
DTEND;TZID=America/New_York:20260912T170000
DESCRIPTION:Onde ver Londrina vs Ponte Preta em Brasil - Série B. Transmis
 são ao vivo e programação de TV.\nhttps://streamradar.soccer/pt/match/55
 59559/londrina-vs-ponte-preta/
URL;VALUE=URI:https://streamradar.soccer/pt/match/5559559/londrina-vs-ponte
 -preta/
STATUS:CONFIRMED
END:VEVENT
END:VCALENDAR
