BEGIN:VCALENDAR
VERSION:2.0
PRODID:-//StreamRadar//Match Calendar//EN
CALSCALE:GREGORIAN
METHOD:PUBLISH
X-WR-CALNAME:Juventude vs Athletic Club
X-WR-TIMEZONE:America/New_York
BEGIN:VEVENT
UID:match-5559558@streamradar.soccer
SUMMARY:Juventude vs Athletic Club
DTSTAMP:20260422T053934Z
DTSTART;TZID=America/New_York:20260912T150000
DTEND;TZID=America/New_York:20260912T170000
LOCATION:Estadio Alfredo Jaconi
DESCRIPTION:Onde ver Juventude vs Athletic Club em Brasil - Série B. Trans
 missão ao vivo e programação de TV.\nhttps://streamradar.soccer/pt/match
 /5559558/juventude-vs-athletic-club/
URL;VALUE=URI:https://streamradar.soccer/pt/match/5559558/juventude-vs-athl
 etic-club/
STATUS:CONFIRMED
END:VEVENT
END:VCALENDAR
