BEGIN:VCALENDAR
VERSION:2.0
PRODID:-//StreamRadar//Match Calendar//EN
CALSCALE:GREGORIAN
METHOD:PUBLISH
X-WR-CALNAME:Fortaleza vs Ceará
X-WR-TIMEZONE:America/New_York
BEGIN:VEVENT
UID:match-5559557@streamradar.soccer
SUMMARY:Fortaleza vs Ceará
DTSTAMP:20260421T172457Z
DTSTART;TZID=America/New_York:20260912T150000
DTEND;TZID=America/New_York:20260912T170000
DESCRIPTION:Onde ver Fortaleza vs Ceará em Brasil - Série B. Transmissão
  ao vivo e programação de TV.\nhttps://streamradar.soccer/pt/match/555955
 7/fortaleza-vs-ceara/
URL;VALUE=URI:https://streamradar.soccer/pt/match/5559557/fortaleza-vs-cear
 a/
STATUS:CONFIRMED
END:VEVENT
END:VCALENDAR
