BEGIN:VCALENDAR
VERSION:2.0
PRODID:-//StreamRadar//Match Calendar//EN
CALSCALE:GREGORIAN
METHOD:PUBLISH
X-WR-CALNAME:Novorizontino vs Avaí
X-WR-TIMEZONE:America/New_York
BEGIN:VEVENT
UID:match-5559540@streamradar.soccer
SUMMARY:Novorizontino vs Avaí
DTSTAMP:20260421T152133Z
DTSTART;TZID=America/New_York:20260905T150000
DTEND;TZID=America/New_York:20260905T170000
LOCATION:Estadio Dr. Jorge Ismael de Biasi
DESCRIPTION:Onde ver Novorizontino vs Avaí em Brasil - Série B. Transmiss
 ão ao vivo e programação de TV.\nhttps://streamradar.soccer/pt/match/555
 9540/novorizontino-vs-avai/
URL;VALUE=URI:https://streamradar.soccer/pt/match/5559540/novorizontino-vs-
 avai/
STATUS:CONFIRMED
END:VEVENT
END:VCALENDAR
