BEGIN:VCALENDAR
VERSION:2.0
PRODID:-//StreamRadar//Match Calendar//EN
CALSCALE:GREGORIAN
METHOD:PUBLISH
X-WR-CALNAME:Guayaquil City vs Mushuc Runa
X-WR-TIMEZONE:America/New_York
BEGIN:VEVENT
UID:match-5559182@streamradar.soccer
SUMMARY:Guayaquil City vs Mushuc Runa
DTSTAMP:20260421T143501Z
DTSTART;TZID=America/New_York:20260913T160000
DTEND;TZID=America/New_York:20260913T180000
DESCRIPTION:Onde ver Guayaquil City vs Mushuc Runa em Equador - Primera A. 
 Transmissão ao vivo e programação de TV.\nhttps://streamradar.soccer/pt/
 match/5559182/guayaquil-city-vs-mushuc-runa/
URL;VALUE=URI:https://streamradar.soccer/pt/match/5559182/guayaquil-city-vs
 -mushuc-runa/
STATUS:CONFIRMED
END:VEVENT
END:VCALENDAR
