BEGIN:VCALENDAR
VERSION:2.0
PRODID:-//StreamRadar//Match Calendar//EN
CALSCALE:GREGORIAN
METHOD:PUBLISH
X-WR-CALNAME:Ischia vs Flaminia
X-WR-TIMEZONE:America/New_York
BEGIN:VEVENT
UID:match-5558140@streamradar.soccer
SUMMARY:Ischia vs Flaminia
DTSTAMP:20260423T070409Z
DTSTART;TZID=America/New_York:20260304T083000
DTEND;TZID=America/New_York:20260304T103000
LOCATION:Stadio Comunale Vincenzo Mazzella (Ischia)
DESCRIPTION:Onde ver Ischia vs Flaminia em Itália - Serie D. Transmissão 
 ao vivo e programação de TV.\nhttps://streamradar.soccer/pt/match/5558140
 /ischia-vs-flaminia/
URL;VALUE=URI:https://streamradar.soccer/pt/match/5558140/ischia-vs-flamini
 a/
STATUS:CONFIRMED
END:VEVENT
END:VCALENDAR
